BEGIN:VCALENDAR
VERSION:2.0
PRODID:-//BOKANTAJ INCLUSION FRENCH WEST INDIES - ECPv6.15.20//NONSGML v1.0//EN
CALSCALE:GREGORIAN
METHOD:PUBLISH
X-ORIGINAL-URL:https://bifwi.org
X-WR-CALDESC:Évènements pour BOKANTAJ INCLUSION FRENCH WEST INDIES
REFRESH-INTERVAL;VALUE=DURATION:PT1H
X-Robots-Tag:noindex
X-PUBLISHED-TTL:PT1H
BEGIN:VTIMEZONE
TZID:Europe/Paris
BEGIN:DAYLIGHT
TZOFFSETFROM:+0100
TZOFFSETTO:+0200
TZNAME:CEST
DTSTART:20250330T010000
END:DAYLIGHT
BEGIN:STANDARD
TZOFFSETFROM:+0200
TZOFFSETTO:+0100
TZNAME:CET
DTSTART:20251026T010000
END:STANDARD
BEGIN:DAYLIGHT
TZOFFSETFROM:+0100
TZOFFSETTO:+0200
TZNAME:CEST
DTSTART:20260329T010000
END:DAYLIGHT
BEGIN:STANDARD
TZOFFSETFROM:+0200
TZOFFSETTO:+0100
TZNAME:CET
DTSTART:20261025T010000
END:STANDARD
BEGIN:DAYLIGHT
TZOFFSETFROM:+0100
TZOFFSETTO:+0200
TZNAME:CEST
DTSTART:20270328T010000
END:DAYLIGHT
BEGIN:STANDARD
TZOFFSETFROM:+0200
TZOFFSETTO:+0100
TZNAME:CET
DTSTART:20271031T010000
END:STANDARD
END:VTIMEZONE
BEGIN:VEVENT
DTSTART;TZID=Europe/Paris:20260425T143000
DTEND;TZID=Europe/Paris:20260425T170000
DTSTAMP:20260424T171056
CREATED:20260417T191512Z
LAST-MODIFIED:20260417T191634Z
UID:1653-1777127400-1777136400@bifwi.org
SUMMARY:Atelier écriture inclusive et communication non discriminante
DESCRIPTION:Atelier proposé par Trans’Actions Guadeloupe 🏳️‍⚧️ \nLes mots ont un pouvoir. Celui d’inclure — ou d’exclure\, souvent sans qu’on s’en rende compte. 💬 \nLe 25 avril\, on vous invite à questionner vos pratiques d’écriture et de communication\, dans un espace bienveillant\, concret et sans prise de tête. \nAu programme : écriture inclusive\, handicap\, diversités relationnelles et familiales — et un Grand Défi Inclusif pour mettre tout ça en pratique 🎯 \n\n🗓️ Vendredi 25 avril \n📍 Maison des Diversités et de l’Inclusion — 21 Rue Gambetta\, Pointe-à-Pitre \n⏱️ 2h30 d’atelier \n💶 30€ • Supports numériques + attestation de participation inclus \n🔗 Inscription sur HelloAsso  \n\nAucun prérequis. Tou·te·s les niveaux sont les bienvenu·e·s. 🌈 \n\n\n\n 
URL:https://bifwi.org/event/atelier-ecriture-inclusive-et-communication-non-discriminante/
LOCATION:Maison des diversités et de l’inclusion\, 21 Rue Gambetta\, Pointe-à-pitre\, 97110\, Guadeloupe
ATTACH;FMTTYPE=image/jpeg:https://bifwi.org/wp-content/uploads/2026/04/Banniere-EICND@300x-100-scaled.jpg
ORGANIZER;CN="Trans'Actions Guadeloupe":MAILTO:contact@trans-actions.org
END:VEVENT
END:VCALENDAR